BEGIN:VCALENDAR
VERSION:2.0
PRODID:-//Telgisz - ECPv6.2.2//NONSGML v1.0//EN
CALSCALE:GREGORIAN
METHOD:PUBLISH
X-ORIGINAL-URL:https://telgisz.hu
X-WR-CALDESC:Events for Telgisz
REFRESH-INTERVAL;VALUE=DURATION:PT1H
X-Robots-Tag:noindex
X-PUBLISHED-TTL:PT1H
BEGIN:VTIMEZONE
TZID:UTC
BEGIN:STANDARD
TZOFFSETFROM:+0000
TZOFFSETTO:+0000
TZNAME:UTC
DTSTART:20240101T000000
END:STANDARD
END:VTIMEZONE
BEGIN:VEVENT
DTSTART;VALUE=DATE:20240408
DTEND;VALUE=DATE:20240409
DTSTAMP:20260424T131755
CREATED:20230914T181716Z
LAST-MODIFIED:20230914T181716Z
UID:517-1712534400-1712620799@telgisz.hu
SUMMARY:Tavaszi szünet utáni első tanítási nap
DESCRIPTION:
URL:https://telgisz.hu/event/tavaszi-szunet-utani-elso-tanitasi-nap/
END:VEVENT
BEGIN:VEVENT
DTSTART;VALUE=DATE:20240409
DTEND;VALUE=DATE:20240410
DTSTAMP:20260424T131755
CREATED:20230914T181826Z
LAST-MODIFIED:20230914T181826Z
UID:519-1712620800-1712707199@telgisz.hu
SUMMARY:Kisérettségi
DESCRIPTION:Nyelvi kisérettségi 10.a \nSzóbeli kisérettségi 11.a
URL:https://telgisz.hu/event/kiserettsegi/
END:VEVENT
BEGIN:VEVENT
DTSTART;TZID=UTC:20240409T080000
DTEND;TZID=UTC:20240409T170000
DTSTAMP:20260424T131755
CREATED:20230914T182107Z
LAST-MODIFIED:20230914T182107Z
UID:522-1712649600-1712682000@telgisz.hu
SUMMARY:Kisérettségi
DESCRIPTION:Nyelvi kisérettségi 10.d \nSzóbeli kisérettségi 11.a
URL:https://telgisz.hu/event/kiserettsegi-2/
END:VEVENT
BEGIN:VEVENT
DTSTART;TZID=UTC:20240409T170000
DTEND;TZID=UTC:20240409T190000
DTSTAMP:20260424T131755
CREATED:20230914T182147Z
LAST-MODIFIED:20230914T182147Z
UID:524-1712682000-1712689200@telgisz.hu
SUMMARY:Szülői értekezlet 12. évfolyam
DESCRIPTION:
URL:https://telgisz.hu/event/szuloi-ertekezlet-12-evfolyam/
END:VEVENT
BEGIN:VEVENT
DTSTART;VALUE=DATE:20240410
DTEND;VALUE=DATE:20240411
DTSTAMP:20260424T131755
CREATED:20230914T182432Z
LAST-MODIFIED:20230914T182432Z
UID:526-1712707200-1712793599@telgisz.hu
SUMMARY:Kisérettségi
DESCRIPTION:Nyelvi kisérettségi 10.e \nSzóbeli kisérettségi 11.d
URL:https://telgisz.hu/event/kiserettsegi-3/
END:VEVENT
BEGIN:VEVENT
DTSTART;VALUE=DATE:20240411
DTEND;VALUE=DATE:20240412
DTSTAMP:20260424T131755
CREATED:20230914T182507Z
LAST-MODIFIED:20230914T182507Z
UID:528-1712793600-1712879999@telgisz.hu
SUMMARY:Kisérettségi
DESCRIPTION:Szóbeli kisérettségi 11.d
URL:https://telgisz.hu/event/kiserettsegi-4/
END:VEVENT
BEGIN:VEVENT
DTSTART;VALUE=DATE:20240411
DTEND;VALUE=DATE:20240412
DTSTAMP:20260424T131755
CREATED:20230914T182546Z
LAST-MODIFIED:20230914T182546Z
UID:530-1712793600-1712879999@telgisz.hu
SUMMARY:Költészet napja - Iskolai megemlékezés
DESCRIPTION:
URL:https://telgisz.hu/event/kolteszet-napja-iskolai-megemlekezes/
END:VEVENT
BEGIN:VEVENT
DTSTART;VALUE=DATE:20240415
DTEND;VALUE=DATE:20240416
DTSTAMP:20260424T131755
CREATED:20230914T182627Z
LAST-MODIFIED:20230914T182627Z
UID:532-1713139200-1713225599@telgisz.hu
SUMMARY:Kisérettségi
DESCRIPTION:Szóbeli kisérettségi 11.e
URL:https://telgisz.hu/event/kiserettsegi-5/
END:VEVENT
BEGIN:VEVENT
DTSTART;VALUE=DATE:20240416
DTEND;VALUE=DATE:20240417
DTSTAMP:20260424T131755
CREATED:20230914T182701Z
LAST-MODIFIED:20230914T182701Z
UID:534-1713225600-1713311999@telgisz.hu
SUMMARY:Kisérettségi
DESCRIPTION:Szóbeli kisérettségi 11.e
URL:https://telgisz.hu/event/kiserettsegi-6/
END:VEVENT
BEGIN:VEVENT
DTSTART;VALUE=DATE:20240416
DTEND;VALUE=DATE:20240417
DTSTAMP:20260424T131755
CREATED:20230914T182738Z
LAST-MODIFIED:20230914T182738Z
UID:536-1713225600-1713311999@telgisz.hu
SUMMARY:Magyar holokauszt áldozatainak emléknapja - Iskolai megemlékezés
DESCRIPTION:
URL:https://telgisz.hu/event/magyar-holokauszt-aldozatainak-emleknapja-iskolai-megemlekezes/
END:VEVENT
BEGIN:VEVENT
DTSTART;TZID=UTC:20240430T163000
DTEND;TZID=UTC:20240430T173000
DTSTAMP:20260424T131756
CREATED:20230914T182832Z
LAST-MODIFIED:20230914T182832Z
UID:538-1714494600-1714498200@telgisz.hu
SUMMARY:SZMK szülői értekezlet
DESCRIPTION:
URL:https://telgisz.hu/event/szmk-szuloi-ertekezlet/
END:VEVENT
BEGIN:VEVENT
DTSTART;TZID=UTC:20240430T173000
DTEND;TZID=UTC:20240430T190000
DTSTAMP:20260424T131756
CREATED:20230914T182911Z
LAST-MODIFIED:20230914T182911Z
UID:540-1714498200-1714503600@telgisz.hu
SUMMARY:Szülői értekezlet 9-11. évfolyam
DESCRIPTION:
URL:https://telgisz.hu/event/szuloi-ertekezlet-9-11-evfolyam/
END:VEVENT
END:VCALENDAR