BEGIN:VCALENDAR
VERSION:2.0
PRODID:-//Telgisz - ECPv6.2.2//NONSGML v1.0//EN
CALSCALE:GREGORIAN
METHOD:PUBLISH
X-ORIGINAL-URL:https://telgisz.hu
X-WR-CALDESC:Events for Telgisz
REFRESH-INTERVAL;VALUE=DURATION:PT1H
X-Robots-Tag:noindex
X-PUBLISHED-TTL:PT1H
BEGIN:VTIMEZONE
TZID:UTC
BEGIN:STANDARD
TZOFFSETFROM:+0000
TZOFFSETTO:+0000
TZNAME:UTC
DTSTART:20240101T000000
END:STANDARD
END:VTIMEZONE
BEGIN:VEVENT
DTSTART;VALUE=DATE:20240214
DTEND;VALUE=DATE:20240215
DTSTAMP:20260424T164856
CREATED:20230914T181055Z
LAST-MODIFIED:20230914T181055Z
UID:500-1707868800-1707955199@telgisz.hu
SUMMARY:Kisérettségi 11. évfolyam magyar nyelv és irodalom
DESCRIPTION:
URL:https://telgisz.hu/event/kiserettsegi-11-evfolyam-magyar-nyelv-es-irodalom/
END:VEVENT
BEGIN:VEVENT
DTSTART;VALUE=DATE:20240215
DTEND;VALUE=DATE:20240216
DTSTAMP:20260424T164856
CREATED:20230914T181014Z
LAST-MODIFIED:20230914T181014Z
UID:498-1707955200-1708041599@telgisz.hu
SUMMARY:Érettségire való jelentkezés határideje
DESCRIPTION:
URL:https://telgisz.hu/event/erettsegire-valo-jelentkezes-hatarideje/
END:VEVENT
BEGIN:VEVENT
DTSTART;VALUE=DATE:20240215
DTEND;VALUE=DATE:20240216
DTSTAMP:20260424T164856
CREATED:20230914T181126Z
LAST-MODIFIED:20230914T181126Z
UID:502-1707955200-1708041599@telgisz.hu
SUMMARY:Kisérettségi 11. évfolyam matematika
DESCRIPTION:
URL:https://telgisz.hu/event/kiserettsegi-11-evfolyam-matematika/
END:VEVENT
BEGIN:VEVENT
DTSTART;VALUE=DATE:20240216
DTEND;VALUE=DATE:20240217
DTSTAMP:20260424T164856
CREATED:20230914T181153Z
LAST-MODIFIED:20230914T181153Z
UID:504-1708041600-1708127999@telgisz.hu
SUMMARY:Kisérettségi 11. évfolyam történelem
DESCRIPTION:
URL:https://telgisz.hu/event/kiserettsegi-11-evfolyam-tortenelem/
END:VEVENT
BEGIN:VEVENT
DTSTART;VALUE=DATE:20240223
DTEND;VALUE=DATE:20240224
DTSTAMP:20260424T164856
CREATED:20230914T181241Z
LAST-MODIFIED:20230914T181241Z
UID:506-1708646400-1708732799@telgisz.hu
SUMMARY:Kommunista diktatúra áldozatainak emléknapja - Iskolai megemlékezés
DESCRIPTION:
URL:https://telgisz.hu/event/kommunista-diktatura-aldozatainak-emleknapja-iskolai-megemlekezes/
END:VEVENT
END:VCALENDAR