BEGIN:VCALENDAR
VERSION:2.0
PRODID:-//Telgisz - ECPv6.2.2//NONSGML v1.0//EN
CALSCALE:GREGORIAN
METHOD:PUBLISH
X-ORIGINAL-URL:https://telgisz.hu
X-WR-CALDESC:Events for Telgisz
REFRESH-INTERVAL;VALUE=DURATION:PT1H
X-Robots-Tag:noindex
X-PUBLISHED-TTL:PT1H
BEGIN:VTIMEZONE
TZID:UTC
BEGIN:STANDARD
TZOFFSETFROM:+0000
TZOFFSETTO:+0000
TZNAME:UTC
DTSTART:20230101T000000
END:STANDARD
END:VTIMEZONE
BEGIN:VEVENT
DTSTART;VALUE=DATE:20231104
DTEND;VALUE=DATE:20231105
DTSTAMP:20260424T221304
CREATED:20230914T175838Z
LAST-MODIFIED:20230914T175838Z
UID:470-1699056000-1699142399@telgisz.hu
SUMMARY:1956-os forradalom leverésének emléknapja
DESCRIPTION:
URL:https://telgisz.hu/event/1956-os-forradalom-leveresenek-emleknapja/
END:VEVENT
BEGIN:VEVENT
DTSTART;VALUE=DATE:20231106
DTEND;VALUE=DATE:20231107
DTSTAMP:20260424T221304
CREATED:20230914T175906Z
LAST-MODIFIED:20230914T175906Z
UID:472-1699228800-1699315199@telgisz.hu
SUMMARY:Őszi szünet utáni első tanítási nap
DESCRIPTION:
URL:https://telgisz.hu/event/oszi-szunet-utani-elso-tanitasi-nap/
END:VEVENT
BEGIN:VEVENT
DTSTART;VALUE=DATE:20231108
DTEND;VALUE=DATE:20231109
DTSTAMP:20260424T221304
CREATED:20230914T180032Z
LAST-MODIFIED:20230914T180032Z
UID:474-1699401600-1699487999@telgisz.hu
SUMMARY:Nyílt nap
DESCRIPTION:
URL:https://telgisz.hu/event/nyilt-nap/
END:VEVENT
BEGIN:VEVENT
DTSTART;VALUE=DATE:20231116
DTEND;VALUE=DATE:20231117
DTSTAMP:20260424T221304
CREATED:20230914T180056Z
LAST-MODIFIED:20230914T180056Z
UID:476-1700092800-1700179199@telgisz.hu
SUMMARY:Nyílt nap
DESCRIPTION:
URL:https://telgisz.hu/event/nyilt-nap-2/
END:VEVENT
BEGIN:VEVENT
DTSTART;TZID=UTC:20231124T170000
DTEND;TZID=UTC:20231124T200000
DTSTAMP:20260424T221304
CREATED:20230914T180149Z
LAST-MODIFIED:20230914T180149Z
UID:478-1700845200-1700856000@telgisz.hu
SUMMARY:Szalagavató ünnepség 12.A
DESCRIPTION:
URL:https://telgisz.hu/event/szalagavato-unnepseg-12-a/
END:VEVENT
BEGIN:VEVENT
DTSTART;TZID=UTC:20231125T160000
DTEND;TZID=UTC:20231125T190000
DTSTAMP:20260424T221304
CREATED:20230914T180223Z
LAST-MODIFIED:20230914T180223Z
UID:480-1700928000-1700938800@telgisz.hu
SUMMARY:Szalagavató ünnepség 12.D
DESCRIPTION:
URL:https://telgisz.hu/event/szalagavato-unnepseg-12-d/
END:VEVENT
END:VCALENDAR