BEGIN:VCALENDAR
VERSION:2.0
PRODID:-//Telgisz - ECPv6.2.2//NONSGML v1.0//EN
CALSCALE:GREGORIAN
METHOD:PUBLISH
X-WR-CALNAME:Telgisz
X-ORIGINAL-URL:https://telgisz.hu
X-WR-CALDESC:Events for Telgisz
REFRESH-INTERVAL;VALUE=DURATION:PT1H
X-Robots-Tag:noindex
X-PUBLISHED-TTL:PT1H
BEGIN:VTIMEZONE
TZID:UTC
BEGIN:STANDARD
TZOFFSETFROM:+0000
TZOFFSETTO:+0000
TZNAME:UTC
DTSTART:20240101T000000
END:STANDARD
END:VTIMEZONE
BEGIN:VEVENT
DTSTART;VALUE=DATE:20240507
DTEND;VALUE=DATE:20240508
DTSTAMP:20260425T162147
CREATED:20230914T183120Z
LAST-MODIFIED:20230914T183120Z
UID:546-1715040000-1715126399@telgisz.hu
SUMMARY:Tanítás nélküli munkanap
DESCRIPTION:Matematika középszintű írásbeli érettségi
URL:https://telgisz.hu/event/tanitas-nelkuli-munkanap-3/
END:VEVENT
BEGIN:VEVENT
DTSTART;VALUE=DATE:20240508
DTEND;VALUE=DATE:20240509
DTSTAMP:20260425T162147
CREATED:20230914T183159Z
LAST-MODIFIED:20230914T183159Z
UID:548-1715126400-1715212799@telgisz.hu
SUMMARY:Tanítás nélküli munkanap
DESCRIPTION:Történelem középszintű írásbeli érettségi
URL:https://telgisz.hu/event/tanitas-nelkuli-munkanap-4/
END:VEVENT
BEGIN:VEVENT
DTSTART;VALUE=DATE:20240509
DTEND;VALUE=DATE:20240510
DTSTAMP:20260425T162147
CREATED:20230914T183240Z
LAST-MODIFIED:20230914T183240Z
UID:550-1715212800-1715299199@telgisz.hu
SUMMARY:Délutáni tanítás 9-11. évfolyamon
DESCRIPTION:Angol nyelv középszintű írásbeli érettségi
URL:https://telgisz.hu/event/delutani-tanitas-9-11-evfolyamon/
END:VEVENT
BEGIN:VEVENT
DTSTART;VALUE=DATE:20240621
DTEND;VALUE=DATE:20240622
DTSTAMP:20260425T162147
CREATED:20230914T183321Z
LAST-MODIFIED:20230914T183321Z
UID:552-1718928000-1719014399@telgisz.hu
SUMMARY:Utolsó tanítási nap
DESCRIPTION:
URL:https://telgisz.hu/event/utolso-tanitasi-nap/
END:VEVENT
END:VCALENDAR