BEGIN:VCALENDAR
VERSION:2.0
PRODID:-//Telgisz - ECPv6.2.2//NONSGML v1.0//EN
CALSCALE:GREGORIAN
METHOD:PUBLISH
X-ORIGINAL-URL:https://telgisz.hu
X-WR-CALDESC:Events for Telgisz
REFRESH-INTERVAL;VALUE=DURATION:PT1H
X-Robots-Tag:noindex
X-PUBLISHED-TTL:PT1H
BEGIN:VTIMEZONE
TZID:UTC
BEGIN:STANDARD
TZOFFSETFROM:+0000
TZOFFSETTO:+0000
TZNAME:UTC
DTSTART:20230101T000000
END:STANDARD
END:VTIMEZONE
BEGIN:VEVENT
DTSTART;TZID=UTC:20230919T163000
DTEND;TZID=UTC:20230919T173000
DTSTAMP:20260425T125041
CREATED:20230914T093417Z
LAST-MODIFIED:20230914T094746Z
UID:451-1695141000-1695144600@telgisz.hu
SUMMARY:SZMK értekezlet
DESCRIPTION:SZMK értekezlet
URL:https://telgisz.hu/event/szmk-ertekezlet/
END:VEVENT
BEGIN:VEVENT
DTSTART;TZID=UTC:20230919T173000
DTEND;TZID=UTC:20230919T190000
DTSTAMP:20260425T125041
CREATED:20230914T175057Z
LAST-MODIFIED:20230914T175057Z
UID:458-1695144600-1695150000@telgisz.hu
SUMMARY:Szülői értekezlet 10-12. évfolyam
DESCRIPTION:
URL:https://telgisz.hu/event/szuloi-ertekezlet-10-12-evfolyam/
END:VEVENT
BEGIN:VEVENT
DTSTART;TZID=UTC:20230921T083000
DTEND;TZID=UTC:20230921T140000
DTSTAMP:20260425T125041
CREATED:20230914T175158Z
LAST-MODIFIED:20230914T175158Z
UID:460-1695285000-1695304800@telgisz.hu
SUMMARY:DÖK nap\, Gólyanap
DESCRIPTION:
URL:https://telgisz.hu/event/dok-nap-golyanap/
END:VEVENT
BEGIN:VEVENT
DTSTART;TZID=UTC:20230925T170000
DTEND;TZID=UTC:20230925T190000
DTSTAMP:20260425T125041
CREATED:20230914T175251Z
LAST-MODIFIED:20230914T175251Z
UID:462-1695661200-1695668400@telgisz.hu
SUMMARY:Online pályaorientációs előadás 11-12. évfolyam számára
DESCRIPTION:
URL:https://telgisz.hu/event/online-palyaorientacios-eloadas-11-12-evfolyam-szamara/
END:VEVENT
BEGIN:VEVENT
DTSTART;VALUE=DATE:20231006
DTEND;VALUE=DATE:20231007
DTSTAMP:20260425T125041
CREATED:20230914T175435Z
LAST-MODIFIED:20230914T175435Z
UID:464-1696550400-1696636799@telgisz.hu
SUMMARY:Az aradi vértanúk emléknapja
DESCRIPTION:
URL:https://telgisz.hu/event/az-aradi-vertanuk-emleknapja/
END:VEVENT
BEGIN:VEVENT
DTSTART;VALUE=DATE:20231027
DTEND;VALUE=DATE:20231028
DTSTAMP:20260425T125041
CREATED:20230914T175559Z
LAST-MODIFIED:20230914T175559Z
UID:468-1698364800-1698451199@telgisz.hu
SUMMARY:Őszi szünet előtti utolsó tanítási nap
DESCRIPTION:
URL:https://telgisz.hu/event/oszi-szunet-elotti-utolso-tanitasi-nap/
END:VEVENT
BEGIN:VEVENT
DTSTART;VALUE=DATE:20231104
DTEND;VALUE=DATE:20231105
DTSTAMP:20260425T125041
CREATED:20230914T175838Z
LAST-MODIFIED:20230914T175838Z
UID:470-1699056000-1699142399@telgisz.hu
SUMMARY:1956-os forradalom leverésének emléknapja
DESCRIPTION:
URL:https://telgisz.hu/event/1956-os-forradalom-leveresenek-emleknapja/
END:VEVENT
BEGIN:VEVENT
DTSTART;VALUE=DATE:20231106
DTEND;VALUE=DATE:20231107
DTSTAMP:20260425T125041
CREATED:20230914T175906Z
LAST-MODIFIED:20230914T175906Z
UID:472-1699228800-1699315199@telgisz.hu
SUMMARY:Őszi szünet utáni első tanítási nap
DESCRIPTION:
URL:https://telgisz.hu/event/oszi-szunet-utani-elso-tanitasi-nap/
END:VEVENT
BEGIN:VEVENT
DTSTART;VALUE=DATE:20231108
DTEND;VALUE=DATE:20231109
DTSTAMP:20260425T125041
CREATED:20230914T180032Z
LAST-MODIFIED:20230914T180032Z
UID:474-1699401600-1699487999@telgisz.hu
SUMMARY:Nyílt nap
DESCRIPTION:
URL:https://telgisz.hu/event/nyilt-nap/
END:VEVENT
BEGIN:VEVENT
DTSTART;VALUE=DATE:20231116
DTEND;VALUE=DATE:20231117
DTSTAMP:20260425T125041
CREATED:20230914T180056Z
LAST-MODIFIED:20230914T180056Z
UID:476-1700092800-1700179199@telgisz.hu
SUMMARY:Nyílt nap
DESCRIPTION:
URL:https://telgisz.hu/event/nyilt-nap-2/
END:VEVENT
BEGIN:VEVENT
DTSTART;TZID=UTC:20231124T170000
DTEND;TZID=UTC:20231124T200000
DTSTAMP:20260425T125041
CREATED:20230914T180149Z
LAST-MODIFIED:20230914T180149Z
UID:478-1700845200-1700856000@telgisz.hu
SUMMARY:Szalagavató ünnepség 12.A
DESCRIPTION:
URL:https://telgisz.hu/event/szalagavato-unnepseg-12-a/
END:VEVENT
BEGIN:VEVENT
DTSTART;TZID=UTC:20231125T160000
DTEND;TZID=UTC:20231125T190000
DTSTAMP:20260425T125041
CREATED:20230914T180223Z
LAST-MODIFIED:20230914T180223Z
UID:480-1700928000-1700938800@telgisz.hu
SUMMARY:Szalagavató ünnepség 12.D
DESCRIPTION:
URL:https://telgisz.hu/event/szalagavato-unnepseg-12-d/
END:VEVENT
BEGIN:VEVENT
DTSTART;VALUE=DATE:20231221
DTEND;VALUE=DATE:20231222
DTSTAMP:20260425T125041
CREATED:20230914T180436Z
LAST-MODIFIED:20230914T180436Z
UID:484-1703116800-1703203199@telgisz.hu
SUMMARY:Téli szünet előtti utolsó tanítási nap
DESCRIPTION:
URL:https://telgisz.hu/event/teli-szunet-elotti-utolso-tanitasi-nap/
END:VEVENT
BEGIN:VEVENT
DTSTART;VALUE=DATE:20240108
DTEND;VALUE=DATE:20240109
DTSTAMP:20260425T125041
CREATED:20230914T180514Z
LAST-MODIFIED:20230914T180514Z
UID:486-1704672000-1704758399@telgisz.hu
SUMMARY:Téli szünet utáni első tanítási nap
DESCRIPTION:
URL:https://telgisz.hu/event/teli-szunet-utani-elso-tanitasi-nap/
END:VEVENT
BEGIN:VEVENT
DTSTART;VALUE=DATE:20240112
DTEND;VALUE=DATE:20240113
DTSTAMP:20260425T125041
CREATED:20230914T180543Z
LAST-MODIFIED:20230914T180543Z
UID:488-1705017600-1705103999@telgisz.hu
SUMMARY:Pályaorientációs nap
DESCRIPTION:
URL:https://telgisz.hu/event/palyaorientacios-nap/
END:VEVENT
BEGIN:VEVENT
DTSTART;VALUE=DATE:20240119
DTEND;VALUE=DATE:20240120
DTSTAMP:20260425T125041
CREATED:20230914T180608Z
LAST-MODIFIED:20230914T180608Z
UID:490-1705622400-1705708799@telgisz.hu
SUMMARY:Első félév vége
DESCRIPTION:
URL:https://telgisz.hu/event/elso-felev-vege/
END:VEVENT
BEGIN:VEVENT
DTSTART;VALUE=DATE:20240119
DTEND;VALUE=DATE:20240120
DTSTAMP:20260425T125041
CREATED:20230914T180649Z
LAST-MODIFIED:20230914T180649Z
UID:492-1705622400-1705708799@telgisz.hu
SUMMARY:A magyar kultúra napja - Iskolai megemlékezés
DESCRIPTION:
URL:https://telgisz.hu/event/a-magyar-kultura-napja-iskolai-megemlekezes/
END:VEVENT
BEGIN:VEVENT
DTSTART;TZID=UTC:20240120T100000
DTEND;TZID=UTC:20240120T120000
DTSTAMP:20260425T125041
CREATED:20230914T180748Z
LAST-MODIFIED:20230914T180748Z
UID:494-1705744800-1705752000@telgisz.hu
SUMMARY:Központi írásbeli felvételi
DESCRIPTION:
URL:https://telgisz.hu/event/kozponti-irasbeli-felveteli/
END:VEVENT
BEGIN:VEVENT
DTSTART;VALUE=DATE:20240122
DTEND;VALUE=DATE:20240123
DTSTAMP:20260425T125041
CREATED:20230914T180928Z
LAST-MODIFIED:20230914T180928Z
UID:496-1705881600-1705967999@telgisz.hu
SUMMARY:Tanítás nélküli munkanap
DESCRIPTION:
URL:https://telgisz.hu/event/tanitas-nelkuli-munkanap/
END:VEVENT
BEGIN:VEVENT
DTSTART;VALUE=DATE:20240214
DTEND;VALUE=DATE:20240215
DTSTAMP:20260425T125041
CREATED:20230914T181055Z
LAST-MODIFIED:20230914T181055Z
UID:500-1707868800-1707955199@telgisz.hu
SUMMARY:Kisérettségi 11. évfolyam magyar nyelv és irodalom
DESCRIPTION:
URL:https://telgisz.hu/event/kiserettsegi-11-evfolyam-magyar-nyelv-es-irodalom/
END:VEVENT
BEGIN:VEVENT
DTSTART;VALUE=DATE:20240215
DTEND;VALUE=DATE:20240216
DTSTAMP:20260425T125041
CREATED:20230914T181014Z
LAST-MODIFIED:20230914T181014Z
UID:498-1707955200-1708041599@telgisz.hu
SUMMARY:Érettségire való jelentkezés határideje
DESCRIPTION:
URL:https://telgisz.hu/event/erettsegire-valo-jelentkezes-hatarideje/
END:VEVENT
BEGIN:VEVENT
DTSTART;VALUE=DATE:20240215
DTEND;VALUE=DATE:20240216
DTSTAMP:20260425T125041
CREATED:20230914T181126Z
LAST-MODIFIED:20230914T181126Z
UID:502-1707955200-1708041599@telgisz.hu
SUMMARY:Kisérettségi 11. évfolyam matematika
DESCRIPTION:
URL:https://telgisz.hu/event/kiserettsegi-11-evfolyam-matematika/
END:VEVENT
BEGIN:VEVENT
DTSTART;VALUE=DATE:20240216
DTEND;VALUE=DATE:20240217
DTSTAMP:20260425T125041
CREATED:20230914T181153Z
LAST-MODIFIED:20230914T181153Z
UID:504-1708041600-1708127999@telgisz.hu
SUMMARY:Kisérettségi 11. évfolyam történelem
DESCRIPTION:
URL:https://telgisz.hu/event/kiserettsegi-11-evfolyam-tortenelem/
END:VEVENT
BEGIN:VEVENT
DTSTART;VALUE=DATE:20240223
DTEND;VALUE=DATE:20240224
DTSTAMP:20260425T125041
CREATED:20230914T181241Z
LAST-MODIFIED:20230914T181241Z
UID:506-1708646400-1708732799@telgisz.hu
SUMMARY:Kommunista diktatúra áldozatainak emléknapja - Iskolai megemlékezés
DESCRIPTION:
URL:https://telgisz.hu/event/kommunista-diktatura-aldozatainak-emleknapja-iskolai-megemlekezes/
END:VEVENT
BEGIN:VEVENT
DTSTART;VALUE=DATE:20240313
DTEND;VALUE=DATE:20240314
DTSTAMP:20260425T125041
CREATED:20230914T181403Z
LAST-MODIFIED:20230914T181414Z
UID:508-1710288000-1710374399@telgisz.hu
SUMMARY:1848-49-es forradalom és szabadságharc ünnepe - Iskolai megemlékezés
DESCRIPTION:
URL:https://telgisz.hu/event/1848-49-es-forradalom-es-szabadsagharc-unnepe-iskolai-megemlekezes/
END:VEVENT
BEGIN:VEVENT
DTSTART;VALUE=DATE:20240314
DTEND;VALUE=DATE:20240315
DTSTAMP:20260425T125041
CREATED:20230914T181442Z
LAST-MODIFIED:20230914T181442Z
UID:510-1710374400-1710460799@telgisz.hu
SUMMARY:Tanítási nélküli munkanap
DESCRIPTION:
URL:https://telgisz.hu/event/tanitasi-nelkuli-munkanap/
END:VEVENT
BEGIN:VEVENT
DTSTART;TZID=UTC:20240320T143000
DTEND;TZID=UTC:20240320T170000
DTSTAMP:20260425T125041
CREATED:20230914T181535Z
LAST-MODIFIED:20230914T181606Z
UID:512-1710945000-1710954000@telgisz.hu
SUMMARY:Szavalóverseny
DESCRIPTION:Téma: A XX. század költészete
URL:https://telgisz.hu/event/szavaloverseny/
END:VEVENT
BEGIN:VEVENT
DTSTART;VALUE=DATE:20240327
DTEND;VALUE=DATE:20240328
DTSTAMP:20260425T125041
CREATED:20230914T181644Z
LAST-MODIFIED:20230914T181644Z
UID:515-1711497600-1711583999@telgisz.hu
SUMMARY:Tavaszi szünet előtti utolsó tanítási nap
DESCRIPTION:
URL:https://telgisz.hu/event/tavaszi-szunet-elotti-utolso-tanitasi-nap/
END:VEVENT
BEGIN:VEVENT
DTSTART;VALUE=DATE:20240408
DTEND;VALUE=DATE:20240409
DTSTAMP:20260425T125041
CREATED:20230914T181716Z
LAST-MODIFIED:20230914T181716Z
UID:517-1712534400-1712620799@telgisz.hu
SUMMARY:Tavaszi szünet utáni első tanítási nap
DESCRIPTION:
URL:https://telgisz.hu/event/tavaszi-szunet-utani-elso-tanitasi-nap/
END:VEVENT
BEGIN:VEVENT
DTSTART;VALUE=DATE:20240409
DTEND;VALUE=DATE:20240410
DTSTAMP:20260425T125041
CREATED:20230914T181826Z
LAST-MODIFIED:20230914T181826Z
UID:519-1712620800-1712707199@telgisz.hu
SUMMARY:Kisérettségi
DESCRIPTION:Nyelvi kisérettségi 10.a \nSzóbeli kisérettségi 11.a
URL:https://telgisz.hu/event/kiserettsegi/
END:VEVENT
END:VCALENDAR