BEGIN:VCALENDAR
VERSION:2.0
PRODID:-//Telgisz - ECPv6.2.2//NONSGML v1.0//EN
CALSCALE:GREGORIAN
METHOD:PUBLISH
X-ORIGINAL-URL:https://telgisz.hu
X-WR-CALDESC:Events for Telgisz
REFRESH-INTERVAL;VALUE=DURATION:PT1H
X-Robots-Tag:noindex
X-PUBLISHED-TTL:PT1H
BEGIN:VTIMEZONE
TZID:UTC
BEGIN:STANDARD
TZOFFSETFROM:+0000
TZOFFSETTO:+0000
TZNAME:UTC
DTSTART:20240101T000000
END:STANDARD
END:VTIMEZONE
BEGIN:VEVENT
DTSTART;TZID=UTC:20240503T150000
DTEND;TZID=UTC:20240503T170000
DTSTAMP:20260424T125824
CREATED:20230914T182948Z
LAST-MODIFIED:20230914T182948Z
UID:542-1714748400-1714755600@telgisz.hu
SUMMARY:Ballagás
DESCRIPTION:
URL:https://telgisz.hu/event/ballagas/
END:VEVENT
END:VCALENDAR